BEGIN:VCALENDAR
VERSION:2.0
PRODID:-//We Love Mômes Versailles - ECPv6.15.20//NONSGML v1.0//EN
CALSCALE:GREGORIAN
METHOD:PUBLISH
X-WR-CALNAME:We Love Mômes Versailles
X-ORIGINAL-URL:https://www.welovemomes-versailles.org
X-WR-CALDESC:Évènements pour We Love Mômes Versailles
REFRESH-INTERVAL;VALUE=DURATION:PT1H
X-Robots-Tag:noindex
X-PUBLISHED-TTL:PT1H
BEGIN:VTIMEZONE
TZID:Europe/Paris
BEGIN:DAYLIGHT
TZOFFSETFROM:+0100
TZOFFSETTO:+0200
TZNAME:CEST
DTSTART:20230326T010000
END:DAYLIGHT
BEGIN:STANDARD
TZOFFSETFROM:+0200
TZOFFSETTO:+0100
TZNAME:CET
DTSTART:20231029T010000
END:STANDARD
BEGIN:DAYLIGHT
TZOFFSETFROM:+0100
TZOFFSETTO:+0200
TZNAME:CEST
DTSTART:20240331T010000
END:DAYLIGHT
BEGIN:STANDARD
TZOFFSETFROM:+0200
TZOFFSETTO:+0100
TZNAME:CET
DTSTART:20241027T010000
END:STANDARD
BEGIN:DAYLIGHT
TZOFFSETFROM:+0100
TZOFFSETTO:+0200
TZNAME:CEST
DTSTART:20250330T010000
END:DAYLIGHT
BEGIN:STANDARD
TZOFFSETFROM:+0200
TZOFFSETTO:+0100
TZNAME:CET
DTSTART:20251026T010000
END:STANDARD
END:VTIMEZONE
BEGIN:VEVENT
DTSTART;TZID=Europe/Paris:20241208T170000
DTEND;TZID=Europe/Paris:20241208T180000
DTSTAMP:20260424T043237
CREATED:20241121T105639Z
LAST-MODIFIED:20241121T125239Z
UID:6609-1733677200-1733680800@www.welovemomes-versailles.org
SUMMARY:Casse-noisette et autres contes - Théâtre d'ombre
DESCRIPTION:Casse-noisette et autres contes populaires – Spectacle de théâtre d’ombre \nLe théâtre MaMi de Versailles se déplace dans notre école pour nous raconter 4 contes populaires pendant cette période de fêtes de fin d’année. \nDans ces spectacles où s’enchaînent les intrigues amusantes\, enfants et parents verront s’animer des poupées originales créées à la main par les artistes. Des dessins viendront enrichir la narration en direct\, sur fond de musique belle et entraînante pour accompagner toutes ces créations. \nRDV dimanche 8 décembre 2024 à 17h00 dans nos locaux. Le spectacle ne dure que 45 minutes et est approprié pour les plus petits. Venez nombreux et ne soyez pas en retard ! \nInscription : https://www.welovemomes-versailles.org/casse-noisette-theatre-ombre/ \nLes tarifs sont de 10\,00 € pour les enfants (jusqu’à 12 ans) et 20\,00 € pour les adultes. Le paiement se fait sur place en liquide ou en chèque.\n \nIl est nécessaire de s’inscrire pour garantir le maintien du spectacle !
URL:https://www.welovemomes-versailles.org/event/casse-noisette/
LOCATION:We Love Mômes Versailles\, 66 rue Albert Sarraut\, Versailles\, 78000\, France
CATEGORIES:co-événement
ATTACH;FMTTYPE=image/webp:https://www.welovemomes-versailles.org/wp-content/uploads/2024/11/casse-noisette-et-autres-contes-carre.webp
ORGANIZER;CN="We Love M%C3%B4mes Versailles":MAILTO:bonjour@welovemomes.org
END:VEVENT
END:VCALENDAR